BEGIN:VCALENDAR
VERSION:2.0
PRODID:-//R.A.A.A.M. - ECPv5.16.0//NONSGML v1.0//EN
CALSCALE:GREGORIAN
METHOD:PUBLISH
X-WR-CALNAME:R.A.A.A.M.
X-ORIGINAL-URL:https://raaam.ee
X-WR-CALDESC:Events for R.A.A.A.M.
BEGIN:VTIMEZONE
TZID:Europe/Helsinki
BEGIN:DAYLIGHT
TZOFFSETFROM:+0200
TZOFFSETTO:+0300
TZNAME:EEST
DTSTART:20180325T010000
END:DAYLIGHT
BEGIN:STANDARD
TZOFFSETFROM:+0300
TZOFFSETTO:+0200
TZNAME:EET
DTSTART:20181028T010000
END:STANDARD
END:VTIMEZONE
BEGIN:VEVENT
DTSTART;TZID=Europe/Helsinki:20180729T193000
DTEND;TZID=Europe/Helsinki:20180729T223000
DTSTAMP:20260420T115134
CREATED:20180715T075432Z
LAST-MODIFIED:20180715T075432Z
UID:850-1532892600-1532903400@raaam.ee
SUMMARY:Praegu pole aeg armastamiseks
DESCRIPTION:“Praegu pole aeg armastamiseks” on kurbnaljakas lugu sellest\, kuidas inimene teeb kõik\, et oma õnne edasi lükata. Me mõtleme välja üha rohkem asju\, mis ei lase meil olla koos nendega\, keda me armastame. Sõjad\, religioon\, masside arvamus\, lisaks poliitika\, seisuslikud erinevused\, mood\, virtuaalne tegelikkus. Ja paistab nii\, et inimkond jätkab asjade väljamõtlemist\, mis meid üksteisest eraldavad. Mida teha\, kui ettekuulutaja\, kes pole veel kunagi eksinud\, on teatanud\, et sinu naise juurde tuleb täna öösel mees? Aga sinul on nagu kiuste vaja sõtta minna! Vägagi keeruline olukord.\nPõhineb Guilherme Figueiredo näidendil “Um Deus dormiu lá em casa”.\n\nAutor / Lavastaja  \nDAMIR SALIMZINOV (Udmurtia)\nKunstnik\nERVIN ÕUNAPUU\nMuusikaline kujundaja\nARDO RAN VARRES\nValguskunstnik\nPRIIDU ADLAS\n\nOsades:\nKRISTO VIIDING\nMARI-LIIS LILL  või INGRID MARGUS\nHARRIET TOOMPERE (Eesti Draamateater)\nMARTIN KÕIV\nOTT KARTAU\nTÕNN LAMP (Tallinna Linnateater)\n\n\nPiletid siit: \n\n\n\n\n\n\n\n\n\nPILETILEVI\n\n\n\n\nPILETIMAAILM
URL:https://raaam.ee/kava/praegu-pole-aeg-armastamiseks-3/
LOCATION:Võhma seltsimaja\, Võhma küla\, Haljala vald\, Lääne-Virumaa\, 45450\, Eesti
CATEGORIES:Praegu pole aeg armastamiseks
ATTACH;FMTTYPE=:
END:VEVENT
END:VCALENDAR