BEGIN:VCALENDAR
VERSION:2.0
PRODID:-//R.A.A.A.M. - ECPv5.16.0//NONSGML v1.0//EN
CALSCALE:GREGORIAN
METHOD:PUBLISH
X-WR-CALNAME:R.A.A.A.M.
X-ORIGINAL-URL:https://raaam.ee
X-WR-CALDESC:Events for R.A.A.A.M.
BEGIN:VTIMEZONE
TZID:Europe/Helsinki
BEGIN:DAYLIGHT
TZOFFSETFROM:+0200
TZOFFSETTO:+0300
TZNAME:EEST
DTSTART:20260329T010000
END:DAYLIGHT
BEGIN:STANDARD
TZOFFSETFROM:+0300
TZOFFSETTO:+0200
TZNAME:EET
DTSTART:20261025T010000
END:STANDARD
END:VTIMEZONE
BEGIN:VEVENT
DTSTART;TZID=Europe/Helsinki:20260211T190000
DTEND;TZID=Europe/Helsinki:20260211T203000
DTSTAMP:20260421T175830
CREATED:20260116T182059Z
LAST-MODIFIED:20260116T182059Z
UID:18411-1770836400-1770841800@raaam.ee
SUMMARY:Ma ei jätnud Ukrainat
DESCRIPTION:Uudised Ukraina sõjast jõuavad meieni läbi lugematute kanalite: sotsiaalmeedia\, ajakirjanduse ja teleuudiste. Ometi saame harva kuulata neid\, kes on selle kõigega ise silmitsi seisnud. \nLavastaja Merle Karusoo toob projektis „Ma ei jätnud Ukrainat” (osa laiemast projektist „Kes ma olen?”) lavale inimesed\, kes on sõja läbi elanud ja kes võitlevad vabade ühiskondade eest ka täna\, kuigi me püüame üha enam sellest eemale vaadata. \nLaval kõlavad kohalike veteranide lood\, mis raputavad oma aususe ja vahetusega. Nende tunnistustes põimuvad julgus ja hirm\, alandamine ja väärikus\, lootus ja kaotus. „Slava Ukraini!” – hüüd\, mis maailmas kõlab solidaarsusena\, saab laval valusalt isikliku tähenduse. Karjuvad need\, kes on selles sõjas pöördumatult kaotanud oma tervise ja füüsilise jõu. Lavastuse keskmes on teema\, millest räägitakse harva: deserteerumine ja keeldumine sõjas osalemisest. Seda hukka mõista on lihtne turvalise kontoritooli tagant\, kuid hoopis teisiti mõjub see\, kui oma elu ja turvalisuse õigust arutavad need\, kelle elu oli päriselt ohus. \n„Ma ei jätnud Ukrainat” sunnib meid esitama raskeid küsimusi sõjajärgse elu\, kollektiivseks kogemuseks saanud traumade ja solidaarsuse kohta – kas siis nende suhtes\, kes võitlevad või nende suhtes\, kes otsustavad sõjast loobuda. \nSee lavastus ei paku lihtsaid vastuseid ja ei lase meil end mugavalt tunda. Aga ta sunnib meid kuulama\, lõpuks ometi otse neid\, kelle hääl on liiga sageli summutatud. \nNB! Esitlus on ukraina keeles eesti- ja ingliskeelsete subtiitritega. \nLavastuse toovad lavale Teater R.A.A.A.M. ja Rivne Akadeemiline Ukraina Muusika- ja Draamateater. \n\n\n\n\nLavastaja MERLE KARUSOO\nVideokujundaja LAURA ROMANOVA\nVeteranid ANDRI USACH\, VIKTORIA SHINKARENKO\, DMITRO POLOVIAN\nNäitleja EVA KARPJUK. \nEsietendus 16. augustil 2025 Vabaduse Festivalil. \n\n\n\n\n\n\n\n\n\n\n\n\n\n\n\nPiletikeskus
URL:https://raaam.ee/kava/ma-ei-jatnud-ukrainat-3/
LOCATION:Salme Kultuurikeskus\, Salme tn 12\, Tallinn\, 10413\, Estonia
CATEGORIES:Program
ATTACH;FMTTYPE=image/jpeg:https://raaam.ee/wp-content/uploads/2026/01/RAAAM-UKR-1200x1200-1.jpg
END:VEVENT
END:VCALENDAR