BEGIN:VCALENDAR
VERSION:2.0
PRODID:-//R.A.A.A.M. - ECPv5.16.0//NONSGML v1.0//EN
CALSCALE:GREGORIAN
METHOD:PUBLISH
X-WR-CALNAME:R.A.A.A.M.
X-ORIGINAL-URL:https://raaam.ee
X-WR-CALDESC:Events for R.A.A.A.M.
BEGIN:VTIMEZONE
TZID:Europe/Helsinki
BEGIN:DAYLIGHT
TZOFFSETFROM:+0200
TZOFFSETTO:+0300
TZNAME:EEST
DTSTART:20220327T010000
END:DAYLIGHT
BEGIN:STANDARD
TZOFFSETFROM:+0300
TZOFFSETTO:+0200
TZNAME:EET
DTSTART:20221030T010000
END:STANDARD
END:VTIMEZONE
BEGIN:VEVENT
DTSTART;TZID=Europe/Helsinki:20220503T190000
DTEND;TZID=Europe/Helsinki:20220503T204500
DTSTAMP:20260420T115241
CREATED:20220328T091700Z
LAST-MODIFIED:20220328T091700Z
UID:17720-1651604400-1651610700@raaam.ee
SUMMARY:Lotman
DESCRIPTION:Lotman\, grandioosne figuur ja seda eelkõige meie\, inimeste jaoks\, kes elavad praegusel ajal. Etenduse loomine tema loengute\, päevikute ja mälestuste motiividel – see on katse teha kaitsesüst meie kaasajale\, lõhestunud ja ühtsuse kaotanud ajale. Süst\, selle imelise isikliku jõuga\, mida Lotman omas ja millega õpetas. Etenduses toimub ajamontaaž. Lotman Tartust on laval koos tegelaste ja raamatukangelastega\, kes said tema uurimisobjektideks. Lotmani juurde tulevad teed jooma Puškin ja Lenski. Ja vastupidi Lotman läheb laval dekabristide juurde\, kes poodi Senati väljakul üles. KGB\, kes korraldas Lotmani juures läbiotsimise\, käib ühte jalga 18. sajandi salapolitseiga\, kes viis Radištševi enesetapuni. Meie etendus\, see on katse näha ühe inimese saatuses kogu inimkonna saatust. Üks peamisi Lotmani intuitsioone oli kõige selgitamise võimalikkus\, kõiksuse mõistmine\, maailma riiulitele paigutamise võimalikkus. Aga kuidas selgitada Teist Maailmasõda\, nälga\, sõdu\, Tšehhoslovakkiat\, sündmusi Eestis 90-ndatel? Kuidas selle maailmakatastroofid suhestuvad Jevgeni Oneginiga? Kuidas selgitada selgitamatut?\nSemiootika on teadus märkide süstematiseerimisest. Aga kuidas süstematiseerida kaost? Lotmanil on vastused olemas. Lotman\, see on kingitus meile\, kingitus kaasajale ja meie kätes on ülesanne asuda temaga vestlusse\, et elu kaosega toime tulla. \nAutor-lavastaja ALEKSANDER PLOTNIKOV (Venemaa). Kunstnik KONSTANTIN SOLOVEV (Venemaa). Videokujundus LAURA ROMANOVA (Vaba Lava). Laval IVO UUKKIVI (Draamateater)\, SIMEONI SUNDJA\, MARTIN KÕIV\, MAILI METSSALU\, RAGNAR UUSTAL. \nEsietendus J.Lotmani 100. sünnipäeva-aastal\, 28.02.2022 kell 19\, Vaba Lava Narva teatrikeskuses. \n  \n\n\n\n\n\n\n\n\n\n\n\n\n\nPILETILEVI\n\n\nPILETIMAAILM\n\n\n\nKestus 1h 50min
URL:https://raaam.ee/kava/lotman-7/
LOCATION:Pärnu teater Endla\, KESKVÄLJAK 1\, Pärnu\, Estonia
CATEGORIES:Lotman
ATTACH;FMTTYPE=image/jpeg:https://raaam.ee/wp-content/uploads/2022/03/20220326_008-scaled.jpg
END:VEVENT
END:VCALENDAR