BEGIN:VCALENDAR
VERSION:2.0
PRODID:-//R.A.A.A.M. - ECPv5.16.0//NONSGML v1.0//EN
CALSCALE:GREGORIAN
METHOD:PUBLISH
X-WR-CALNAME:R.A.A.A.M.
X-ORIGINAL-URL:https://raaam.ee
X-WR-CALDESC:Events for R.A.A.A.M.
BEGIN:VTIMEZONE
TZID:Europe/Helsinki
BEGIN:DAYLIGHT
TZOFFSETFROM:+0200
TZOFFSETTO:+0300
TZNAME:EEST
DTSTART:20200329T010000
END:DAYLIGHT
BEGIN:STANDARD
TZOFFSETFROM:+0300
TZOFFSETTO:+0200
TZNAME:EET
DTSTART:20201025T010000
END:STANDARD
END:VTIMEZONE
BEGIN:VEVENT
DTSTART;TZID=Europe/Helsinki:20200518T190000
DTEND;TZID=Europe/Helsinki:20200518T213000
DTSTAMP:20260421T180852
CREATED:20190525T052223Z
LAST-MODIFIED:20200427T123536Z
UID:1503-1589828400-1589837400@raaam.ee
SUMMARY:Libahunt - JÄÄB ÄRA
DESCRIPTION:Libahunt ei ole ainult eesti rahvausundist pärit elukas vaid figureerib paljude rahvaste pärimuses. Jakuutiast pärit lavastaja Sergei Potapov ütleb: „Loodus ja paganlus on vaba\, religioon aga on täis aheldavaid kaanoneid“. \nEesti tüvitekstiks peetava näidendi „Libahunt” on lavastanud Jakuutia tuntuim lavastaja Sergei Potapov (s. 1975). Sergei Potapov on šamaani lapselaps. Lõpetas 2004. aastal Moskva Riikliku teatriakadeemia lavastajana. Juba 2005. aastal sai Kuldse maski auhinna Eugène Ionesco näidendi „Macbeth” lavastamise eest. Ta on teinud üheksa filmi ja paarkümmend suurt lavastust. Üks lavastaja perelegende räägib\, kuidas tema isa jurtast välja Siberi lumehange visati\, kui ta sündis. See oli šamaanilapse esimene katse\, jõuproov. Kui laps ellu jäi\, tähendab – oli eluks valmis. \nEsietendus 8.07.2015 Viinistu Kunstimuuseumi Katlamajas \n  \n\n\n\n\nAutor AUGUST KITZBERG\nLavastaja SERGEI POTAPOV (Jakuutia)\nKunstnik ERVIN ÕUNAPUU\nMuusikaline kujundaja ARDO RAN VARRES\nValguskujundaja PRIIDU ADLAS\n\nOsades:\nIVO UUKKIVI (Eesti Draamateater) \nKRISTIINA-HORTENSIA PORT\nKRISTO VIIDING\nLIISA PULK \nMARI LILL (Eesti Draamateater)\nMARTIN KÕIV\nPIRET SIMSON\n\n\nEtenduse juht LIISA LIKSOR \n\n\n\n\n\n\n\n\n\n\n\n\n\nPILETILEVI\n\n\nPiletimaailm\n\n\n\nKestvus 2h 30min koos vaheajaga
URL:https://raaam.ee/kava/libahunt/
LOCATION:Rahvusooper Estonia\, Estonia pst 4\, Tallinn\, Harjumaa\, 10148\, Estonia
CATEGORIES:Libahunt
ATTACH;FMTTYPE=image/jpeg:https://raaam.ee/wp-content/uploads/2020/02/J69B9479-scaled.jpg
END:VEVENT
END:VCALENDAR