BEGIN:VCALENDAR
VERSION:2.0
PRODID:-//R.A.A.A.M. - ECPv5.16.0//NONSGML v1.0//EN
CALSCALE:GREGORIAN
METHOD:PUBLISH
X-WR-CALNAME:R.A.A.A.M.
X-ORIGINAL-URL:https://raaam.ee
X-WR-CALDESC:Events for R.A.A.A.M.
BEGIN:VTIMEZONE
TZID:Europe/Helsinki
BEGIN:DAYLIGHT
TZOFFSETFROM:+0200
TZOFFSETTO:+0300
TZNAME:EEST
DTSTART:20240331T010000
END:DAYLIGHT
BEGIN:STANDARD
TZOFFSETFROM:+0300
TZOFFSETTO:+0200
TZNAME:EET
DTSTART:20241027T010000
END:STANDARD
END:VTIMEZONE
BEGIN:VEVENT
DTSTART;TZID=Europe/Helsinki:20240118T190000
DTEND;TZID=Europe/Helsinki:20240118T204500
DTSTAMP:20260421T151539
CREATED:20231214T121525Z
LAST-MODIFIED:20231218T204410Z
UID:18119-1705604400-1705610700@raaam.ee
SUMMARY:#ярусский/#maolenvenelane🇪🇪
DESCRIPTION:Millest mõtlevad ja kuidas elavad praegu inimesed\, kes ütlevad iseenda kohta: ma olen venelane? Millisena nad näevad Eestit praegu ja tulevikus? Millest unistavad ja mida kardavad? Millest nad tahavad ja millest ei taha rääkida? See on etendus venelastest Eestis. \nAutor-lavastaja Julia Aug\nNäitlejad Raimo Pass (Eesti Draamateater)\, Loviise Kapper\, Liina Tennosaar\, Karel Käos\nKunstnik Riina Vanhanen\nMuusikaline kujundaja Ardo Ran Varres\nVideokunstnik Laura Romanova\nValguskunstnik Priidu Adlas\nIntervjueerija Andres Popov \nEtendusel on venekeelsed subtiitrid. \nEsietendus 10. detsembril Vaba Lava Narva Teatrikeskuses. \n\n\n\n\n\n\n\n\n\n\n\n\n\n\n\n\n\n\n\nPILETIMAAILM
URL:https://raaam.ee/kava/%d1%8f%d1%80%d1%83%d1%81%d1%81%d0%ba%d0%b8%d0%b9-maolenvenelane-3/
LOCATION:Kumu Auditoorium\, Weizenbergi 34 / Valge 1\, Tallinn\, 10127\, Eesti
CATEGORIES:Program
ATTACH;FMTTYPE=image/jpeg:https://raaam.ee/wp-content/uploads/2023/10/RAAAM-maolenvenelane-1080x1080-1.jpg
END:VEVENT
END:VCALENDAR